BEGIN:VCALENDAR
VERSION:2.0
PRODID:-//Hadiqaa - ECPv6.15.20//NONSGML v1.0//EN
CALSCALE:GREGORIAN
METHOD:PUBLISH
X-WR-CALNAME:Hadiqaa
X-ORIGINAL-URL:https://hadiqaa.com
X-WR-CALDESC:Events for Hadiqaa
REFRESH-INTERVAL;VALUE=DURATION:PT1H
X-Robots-Tag:noindex
X-PUBLISHED-TTL:PT1H
BEGIN:VTIMEZONE
TZID:Asia/Qatar
BEGIN:STANDARD
TZOFFSETFROM:+0300
TZOFFSETTO:+0300
TZNAME:+03
DTSTART:20250101T000000
END:STANDARD
END:VTIMEZONE
BEGIN:VEVENT
DTSTART;TZID=Asia/Qatar:20260328T150000
DTEND;TZID=Asia/Qatar:20260328T170000
DTSTAMP:20260425T133745
CREATED:20251223T163205Z
LAST-MODIFIED:20260324T172440Z
UID:15545-1774710000-1774717200@hadiqaa.com
SUMMARY:Indoor Plants by Eng. Vicky Damalou
DESCRIPTION:Learn how to select\, care for\, and maintain healthy indoor plants in this practical workshop led by Eng. Vicky Damalou. The session focuses on understanding plant needs\, creating suitable indoor environments\, and building confidence in caring for plants at home or in the workplace. What You’ll Learn How to choose the right indoor plants forContinue reading "Indoor Plants by Eng. Vicky Damalou"
URL:https://hadiqaa.com/event/indoor-plants-by-eng-vicky-damalou/
LOCATION:Qatar Preparatory School (QPS) Courtyard\, 7GG9+MG8 Doha\, Qatar\, Doha\, Qatar
CATEGORIES:Adult Workshops
ATTACH;FMTTYPE=image/png:https://hadiqaa.com/wp-content/uploads/2025/12/45-Instagram-Posts-12.png
ORGANIZER;CN="Hadiqaa":MAILTO:support@hadiqaa.com
END:VEVENT
END:VCALENDAR