BEGIN:VCALENDAR
VERSION:2.0
PRODID:-//Hadiqaa - ECPv6.15.20//NONSGML v1.0//EN
CALSCALE:GREGORIAN
METHOD:PUBLISH
X-ORIGINAL-URL:https://hadiqaa.com
X-WR-CALDESC:Events for Hadiqaa
REFRESH-INTERVAL;VALUE=DURATION:PT1H
X-Robots-Tag:noindex
X-PUBLISHED-TTL:PT1H
BEGIN:VTIMEZONE
TZID:Asia/Qatar
BEGIN:STANDARD
TZOFFSETFROM:+0300
TZOFFSETTO:+0300
TZNAME:+03
DTSTART:20240101T000000
END:STANDARD
END:VTIMEZONE
BEGIN:VEVENT
DTSTART;TZID=Asia/Qatar:20250906T163000
DTEND;TZID=Asia/Qatar:20270424T183000
DTSTAMP:20260423T173359
CREATED:20250722T210017Z
LAST-MODIFIED:20251015T135051Z
UID:14832-1757176200-1808591400@hadiqaa.com
SUMMARY:Grow your Desert Garden - Full Program Course (Saturdays @4:30 pm)
DESCRIPTION:with Hadiqaa × Qatar MuseumsPart of Countryside: A Place to Live\, Not to Leave Exhibition Taking place during the holy month of Ramadan\, this special community harvesting experience invites families\, students\, and curious minds to slow down\, reconnect with the land\, and engage in meaningful action. Hosted within the Countryside: A Place to Live\, NotContinue reading "Community Harvesting Day"
URL:https://hadiqaa.com/event/grow-your-desert-garden-full-course-2025-26/
CATEGORIES:Adult Workshops
ATTACH;FMTTYPE=image/jpeg:https://hadiqaa.com/wp-content/uploads/2025/07/WhatsApp-Image-2025-07-22-at-17.27.34.jpeg
ORGANIZER;CN="Hadiqaa":MAILTO:support@hadiqaa.com
END:VEVENT
END:VCALENDAR